BEGIN:VCALENDAR
VERSION:2.0
PRODID:-//Kreuz - Kneipe - Klub und Konzerte - ECPv6.15.17//NONSGML v1.0//EN
CALSCALE:GREGORIAN
METHOD:PUBLISH
X-WR-CALNAME:Kreuz - Kneipe - Klub und Konzerte
X-ORIGINAL-URL:https://kreuz-obermarchtal.de
X-WR-CALDESC:Veranstaltungen für Kreuz - Kneipe - Klub und Konzerte
REFRESH-INTERVAL;VALUE=DURATION:PT1H
X-Robots-Tag:noindex
X-PUBLISHED-TTL:PT1H
BEGIN:VTIMEZONE
TZID:Europe/Paris
BEGIN:DAYLIGHT
TZOFFSETFROM:+0100
TZOFFSETTO:+0200
TZNAME:CEST
DTSTART:20250330T010000
END:DAYLIGHT
BEGIN:STANDARD
TZOFFSETFROM:+0200
TZOFFSETTO:+0100
TZNAME:CET
DTSTART:20251026T010000
END:STANDARD
BEGIN:DAYLIGHT
TZOFFSETFROM:+0100
TZOFFSETTO:+0200
TZNAME:CEST
DTSTART:20260329T010000
END:DAYLIGHT
BEGIN:STANDARD
TZOFFSETFROM:+0200
TZOFFSETTO:+0100
TZNAME:CET
DTSTART:20261025T010000
END:STANDARD
BEGIN:DAYLIGHT
TZOFFSETFROM:+0100
TZOFFSETTO:+0200
TZNAME:CEST
DTSTART:20270328T010000
END:DAYLIGHT
BEGIN:STANDARD
TZOFFSETFROM:+0200
TZOFFSETTO:+0100
TZNAME:CET
DTSTART:20271031T010000
END:STANDARD
END:VTIMEZONE
BEGIN:VEVENT
DTSTART;TZID=Europe/Paris:20260424T200000
DTEND;TZID=Europe/Paris:20260424T200000
DTSTAMP:20260423T110608
CREATED:20250223T191745Z
LAST-MODIFIED:20260201T140533Z
UID:10000109-1777060800-1777060800@kreuz-obermarchtal.de
SUMMARY:44 & MORE - DIE Party ab Mitte 30 mit DJ OLI E. - 24.04.2026
DESCRIPTION:[vc_row][vc_column][vc_column_text css=““]Freitag\, 24.04.2026 \n20 Uhr \nDIE Party-Reihe im KREUZ Obermarchtal! \n​Jede 5er-Frauengruppe erhält eine Flasche Sekt gratis! \nJeden vierten Freitag im Monat ab 20 Uhr: \n44 & MORE – DIE Party ab Mitte 30! \n*Rock *Pop *Soul *Funk *Disco mit DJ OLI E. \n​DJ OLI E. \nbekannt von: \n*Extreme/Mengen \n*E.D. /“on the Rock’s“ (Kultnacht) \n*EDEN-Party \n*SWR3 Clubnacht \n*RADIO7 Partynacht \n*Studio 104 RV \netc.[/vc_column_text][/vc_column][/vc_row]
URL:https://kreuz-obermarchtal.de/mehr-infos/44-more-die-party-ab-mitte-30-mit-dj-oli-e-24-04-2026/
LOCATION:Kreuz Obermarchtal\, Mühlweg 1\, Obermarchtal\, Baden-Württemberg\, 89611\, Germany
CATEGORIES:Programm
ATTACH;FMTTYPE=image/jpeg:https://kreuz-obermarchtal.de/wp-content/uploads/2025/02/Kreuz-Obermarchtal-18.jpg
ORGANIZER;CN="Gasthaus Kreuz Obermarchtal":MAILTO:info@kreuz-obermarchtal.de
END:VEVENT
BEGIN:VEVENT
DTSTART;TZID=Europe/Paris:20260425T190000
DTEND;TZID=Europe/Paris:20260425T190000
DTSTAMP:20260423T110608
CREATED:20250223T191119Z
LAST-MODIFIED:20260303T163510Z
UID:10000108-1777143600-1777143600@kreuz-obermarchtal.de
SUMMARY:TANZEN BITTE! Schlager | Discofox - 25.04.2026
DESCRIPTION:[vc_row][vc_column][vc_column_text css=““]19 Uhr \n​Jede 5er-Frauengruppe erhält eine Flasche Sekt gratis! \n​ \nDIE Party-Reihe im KREUZ: \nJeden zweiten Freitag im Monat \nJeden vierten Samstag im Monat \nSchlager | Discofox |[/vc_column_text][/vc_column][/vc_row]
URL:https://kreuz-obermarchtal.de/mehr-infos/tanzen-bitte-schlager-discofox-25-04-202619-uhr-jede-5er-frauengruppe-erhaelt-eine-flasche-sekt-gratis-die-party-reihe-im-kreuz-jeden-zweiten-freitag-im-monat-jeden-vierten-s/
LOCATION:Baden-Württemberg
CATEGORIES:Programm
ATTACH;FMTTYPE=image/jpeg:https://kreuz-obermarchtal.de/wp-content/uploads/2025/02/Kreuz-Obermarchtal-40.jpg
END:VEVENT
BEGIN:VEVENT
DTSTART;TZID=Europe/Paris:20260430T200000
DTEND;TZID=Europe/Paris:20260430T200000
DTSTAMP:20260423T110608
CREATED:20260303T160244Z
LAST-MODIFIED:20260303T160245Z
UID:10000120-1777579200-1777579200@kreuz-obermarchtal.de
SUMMARY:Die 2 - Tanz in den Mai
DESCRIPTION:[vc_row][vc_column][vc_column_text css=““]Die2 – Tanz in den Mai \n30. April – 20 Uhr \nEintritt an der Abendkasse. \n[/vc_column_text][/vc_column][/vc_row]
URL:https://kreuz-obermarchtal.de/mehr-infos/die2-tanz-in-den-mai-2/
LOCATION:Kreuz Obermarchtal\, Mühlweg 1\, Obermarchtal\, Baden-Württemberg\, 89611\, Germany
CATEGORIES:Live Events,Programm
ATTACH;FMTTYPE=image/jpeg:https://kreuz-obermarchtal.de/wp-content/uploads/2025/02/Kreuz-Obermarchtal-49.jpg
ORGANIZER;CN="Gasthaus Kreuz Obermarchtal":MAILTO:info@kreuz-obermarchtal.de
END:VEVENT
BEGIN:VEVENT
DTSTART;TZID=Europe/Paris:20260516T200000
DTEND;TZID=Europe/Paris:20260516T200000
DTSTAMP:20260423T110608
CREATED:20250915T184655Z
LAST-MODIFIED:20260415T154416Z
UID:10000150-1778961600-1778961600@kreuz-obermarchtal.de
SUMMARY:XTASY Phoenix Tour
DESCRIPTION:[vc_row][vc_column][vc_column_text css=““] \nLive im Kreuz Obermarchtal \nAm 16.05.2026 wird’s laut\, energiegeladen und garantiert unvergesslich:\nDie spanische Rockband XTASY bringt im Rahmen ihrer Phoenix Tour die Bühne zum Beben! \nStart: 20 Uhr\nKreuz Obermarchtal\nEintritt frei – der Hut geht rum und freut sich über eure Unterstützung. \nKommt vorbei\, bringt gute Laune mit und erlebt einen Abend voller Leidenschaft\, Power und richtig guter Musik![/vc_column_text][/vc_column][/vc_row]
URL:https://kreuz-obermarchtal.de/mehr-infos/xtasy-16-05-2026/
LOCATION:Kreuz Obermarchtal\, Mühlweg 1\, Obermarchtal\, Baden-Württemberg\, 89611\, Germany
CATEGORIES:Live Events,Programm
ATTACH;FMTTYPE=image/jpeg:https://kreuz-obermarchtal.de/wp-content/uploads/2025/09/47.jpg
END:VEVENT
BEGIN:VEVENT
DTSTART;TZID=Europe/Paris:20260522T200000
DTEND;TZID=Europe/Paris:20260522T200000
DTSTAMP:20260423T110608
CREATED:20250223T191919Z
LAST-MODIFIED:20260201T115821Z
UID:10000110-1779480000-1779480000@kreuz-obermarchtal.de
SUMMARY:44 & MORE - DIE Party ab Mitte 30 mit DJ OLI E. - 22.05.2026
DESCRIPTION:[vc_row][vc_column][vc_column_text css=““]Freitag\, 22.05.2026 \n20 Uhr \nDIE Party-Reihe im KREUZ Obermarchtal! \n​Jede 5er-Frauengruppe erhält eine Flasche Sekt gratis! \nJeden vierten Freitag im Monat ab 20 Uhr: \n44 & MORE – DIE Party ab Mitte 30! \n*Rock *Pop *Soul *Funk *Disco mit DJ OLI E. \n​DJ OLI E. \nbekannt von: \n*Extreme/Mengen \n*E.D. /“on the Rock’s“ (Kultnacht) \n*EDEN-Party \n*SWR3 Clubnacht \n*RADIO7 Partynacht \n*Studio 104 RV \netc.[/vc_column_text][/vc_column][/vc_row]
URL:https://kreuz-obermarchtal.de/mehr-infos/44-more-die-party-ab-mitte-30-mit-dj-oli-e-23-05-2025/
LOCATION:Kreuz Obermarchtal\, Mühlweg 1\, Obermarchtal\, Baden-Württemberg\, 89611\, Germany
CATEGORIES:Programm
ATTACH;FMTTYPE=image/jpeg:https://kreuz-obermarchtal.de/wp-content/uploads/2025/02/Kreuz-Obermarchtal-19.jpg
ORGANIZER;CN="Gasthaus Kreuz Obermarchtal":MAILTO:info@kreuz-obermarchtal.de
END:VEVENT
BEGIN:VEVENT
DTSTART;TZID=Europe/Paris:20260523T190000
DTEND;TZID=Europe/Paris:20260523T190000
DTSTAMP:20260423T110608
CREATED:20250707T180323Z
LAST-MODIFIED:20260303T163700Z
UID:10000128-1779562800-1779562800@kreuz-obermarchtal.de
SUMMARY:TANZEN BITTE! Schlager | Discofox – 23.05.2026
DESCRIPTION:[vc_row][vc_column][vc_column_text css=““]19 Uhr \n​Jede 5er-Frauengruppe erhält eine Flasche Sekt gratis! \n​ \nDIE Party-Reihe im KREUZ: \nJeden zweiten Freitag und vierten Samstag im Monat \nSchlager | Discofox |[/vc_column_text][/vc_column][/vc_row]
URL:https://kreuz-obermarchtal.de/mehr-infos/tanzen-bitte-schlager-discofox-23-05-2026-2/
LOCATION:Kreuz Obermarchtal\, Mühlweg 1\, Obermarchtal\, Baden-Württemberg\, 89611\, Germany
CATEGORIES:Programm
ATTACH;FMTTYPE=image/jpeg:https://kreuz-obermarchtal.de/wp-content/uploads/2025/07/Kreuz-Obermarchtal-42.jpg
ORGANIZER;CN="Gasthaus Kreuz Obermarchtal":MAILTO:info@kreuz-obermarchtal.de
END:VEVENT
BEGIN:VEVENT
DTSTART;TZID=Europe/Paris:20260530T190000
DTEND;TZID=Europe/Paris:20260530T190000
DTSTAMP:20260423T110608
CREATED:20240829T170725Z
LAST-MODIFIED:20260304T165651Z
UID:10000084-1780167600-1780167600@kreuz-obermarchtal.de
SUMMARY:ZOOROPA - 30.05.2026
DESCRIPTION:[vc_row][vc_column][vc_column_text css=““]Zooropa. Das Beste aus über 40 Jahren U2 (Irland). Nach dem wiederholt überzeugendem Gastspiel\, mit hervorragendem Publikum wieder live im Kreuz Obermarchtal. \nSupport: The Renegades (aus Riedlingen) \n  \nEinlass 19 Uhr\, Beginn um 20.00 Uhr[/vc_column_text][/vc_column][/vc_row]
URL:https://kreuz-obermarchtal.de/mehr-infos/zooropa-30-05-2026/
LOCATION:Kreuz Obermarchtal\, Mühlweg 1\, Obermarchtal\, Baden-Württemberg\, 89611\, Germany
CATEGORIES:Live Events
ATTACH;FMTTYPE=image/jpeg:https://kreuz-obermarchtal.de/wp-content/uploads/2024/08/44.jpg
ORGANIZER;CN="Gasthaus Kreuz Obermarchtal":MAILTO:info@kreuz-obermarchtal.de
END:VEVENT
BEGIN:VEVENT
DTSTART;TZID=Europe/Paris:20260612T190000
DTEND;TZID=Europe/Paris:20260612T190000
DTSTAMP:20260423T110609
CREATED:20250106T215017Z
LAST-MODIFIED:20260303T163807Z
UID:10000100-1781290800-1781290800@kreuz-obermarchtal.de
SUMMARY:TANZEN BITTE! Schlager | Discofox - 12.06.2026
DESCRIPTION:[vc_row][vc_column][vc_column_text css=““]Jede 5er-Frauengruppe erhält eine Flasche Sekt gratis! \n​ \nDIE Party-Reihe im KREUZ: \nJeden zweiten Freitag im Monat \nJeden vierten Samstag im Monat \nSchlager | Discofox |[/vc_column_text][/vc_column][/vc_row]
URL:https://kreuz-obermarchtal.de/mehr-infos/tanzen-bitte-schlager-discofox-12-06-2026-2/
LOCATION:Kreuz Obermarchtal\, Mühlweg 1\, Obermarchtal\, Baden-Württemberg\, 89611\, Germany
CATEGORIES:Programm
ATTACH;FMTTYPE=image/jpeg:https://kreuz-obermarchtal.de/wp-content/uploads/2025/01/Kreuz-Obermarchtal-43.jpg
ORGANIZER;CN="Gasthaus Kreuz Obermarchtal":MAILTO:info@kreuz-obermarchtal.de
END:VEVENT
BEGIN:VEVENT
DTSTART;TZID=Europe/Paris:20260912T190000
DTEND;TZID=Europe/Paris:20260912T190000
DTSTAMP:20260423T110609
CREATED:20250817T075546Z
LAST-MODIFIED:20260304T165525Z
UID:10000143-1789239600-1789239600@kreuz-obermarchtal.de
SUMMARY:Christina Haze
DESCRIPTION:[vc_row][vc_column][vc_column_text css=““] \nChristina Haze liefert energiegeladenen Rock mit fetten Gitarrenriffs\, rauen Vocals und einer kompromisslosen Bühnenpräsenz.Angeführt von der linkshändigen Gitarristin Christina Haze bringt die Band klassischen Rock-Spirit mit modernem Druck – laut und ehrlich. \nFreut euch auf eine Show voller Power\, Groove und harten Riffs. \n[/vc_column_text][/vc_column][/vc_row]
URL:https://kreuz-obermarchtal.de/mehr-infos/christina-haze/
LOCATION:Kreuz Obermarchtal\, Mühlweg 1\, Obermarchtal\, Baden-Württemberg\, 89611\, Germany
CATEGORIES:Live Events,Programm
ATTACH;FMTTYPE=image/jpeg:https://kreuz-obermarchtal.de/wp-content/uploads/2025/08/41.jpg
ORGANIZER;CN="Gasthaus Kreuz Obermarchtal":MAILTO:info@kreuz-obermarchtal.de
END:VEVENT
BEGIN:VEVENT
DTSTART;TZID=Europe/Paris:20261003T190000
DTEND;TZID=Europe/Paris:20261003T190000
DTSTAMP:20260423T110609
CREATED:20250821T114159Z
LAST-MODIFIED:20260304T165912Z
UID:10000144-1791054000-1791054000@kreuz-obermarchtal.de
SUMMARY:Helle Dangel 50-jähriges Bühnenjubiläum
DESCRIPTION:[vc_row][vc_column][vc_column_text css=““]Helle Dangel – 03.10.2026 – 19 Uhr \nHelle Dangel feiert sein 50-jähriges Bühnenjubiläum mit vielen Gästen. \nEinlass 19 Uhr. \nBeginn: 20 Uhr.[/vc_column_text][/vc_column][/vc_row]
URL:https://kreuz-obermarchtal.de/mehr-infos/helle-dangel-live-acoustic/
LOCATION:Kreuz Obermarchtal\, Mühlweg 1\, Obermarchtal\, Baden-Württemberg\, 89611\, Germany
CATEGORIES:Live Events,Programm
ATTACH;FMTTYPE=image/jpeg:https://kreuz-obermarchtal.de/wp-content/uploads/2025/08/47.jpg
ORGANIZER;CN="Gasthaus Kreuz Obermarchtal":MAILTO:info@kreuz-obermarchtal.de
END:VEVENT
END:VCALENDAR