BEGIN:VCALENDAR
VERSION:2.0
PRODID:-//Kreuz - Kneipe - Klub und Konzerte - ECPv6.15.17//NONSGML v1.0//EN
CALSCALE:GREGORIAN
METHOD:PUBLISH
X-WR-CALNAME:Kreuz - Kneipe - Klub und Konzerte
X-ORIGINAL-URL:https://kreuz-obermarchtal.de
X-WR-CALDESC:Veranstaltungen für Kreuz - Kneipe - Klub und Konzerte
REFRESH-INTERVAL;VALUE=DURATION:PT1H
X-Robots-Tag:noindex
X-PUBLISHED-TTL:PT1H
BEGIN:VTIMEZONE
TZID:Europe/Paris
BEGIN:DAYLIGHT
TZOFFSETFROM:+0100
TZOFFSETTO:+0200
TZNAME:CEST
DTSTART:20250330T010000
END:DAYLIGHT
BEGIN:STANDARD
TZOFFSETFROM:+0200
TZOFFSETTO:+0100
TZNAME:CET
DTSTART:20251026T010000
END:STANDARD
BEGIN:DAYLIGHT
TZOFFSETFROM:+0100
TZOFFSETTO:+0200
TZNAME:CEST
DTSTART:20260329T010000
END:DAYLIGHT
BEGIN:STANDARD
TZOFFSETFROM:+0200
TZOFFSETTO:+0100
TZNAME:CET
DTSTART:20261025T010000
END:STANDARD
BEGIN:DAYLIGHT
TZOFFSETFROM:+0100
TZOFFSETTO:+0200
TZNAME:CEST
DTSTART:20270328T010000
END:DAYLIGHT
BEGIN:STANDARD
TZOFFSETFROM:+0200
TZOFFSETTO:+0100
TZNAME:CET
DTSTART:20271031T010000
END:STANDARD
END:VTIMEZONE
BEGIN:VEVENT
DTSTART;TZID=Europe/Paris:20260424T200000
DTEND;TZID=Europe/Paris:20260424T200000
DTSTAMP:20260424T124215
CREATED:20250223T191745Z
LAST-MODIFIED:20260201T140533Z
UID:10000109-1777060800-1777060800@kreuz-obermarchtal.de
SUMMARY:44 & MORE - DIE Party ab Mitte 30 mit DJ OLI E. - 24.04.2026
DESCRIPTION:[vc_row][vc_column][vc_column_text css=““]Freitag\, 24.04.2026 \n20 Uhr \nDIE Party-Reihe im KREUZ Obermarchtal! \n​Jede 5er-Frauengruppe erhält eine Flasche Sekt gratis! \nJeden vierten Freitag im Monat ab 20 Uhr: \n44 & MORE – DIE Party ab Mitte 30! \n*Rock *Pop *Soul *Funk *Disco mit DJ OLI E. \n​DJ OLI E. \nbekannt von: \n*Extreme/Mengen \n*E.D. /“on the Rock’s“ (Kultnacht) \n*EDEN-Party \n*SWR3 Clubnacht \n*RADIO7 Partynacht \n*Studio 104 RV \netc.[/vc_column_text][/vc_column][/vc_row]
URL:https://kreuz-obermarchtal.de/mehr-infos/44-more-die-party-ab-mitte-30-mit-dj-oli-e-24-04-2026/
LOCATION:Kreuz Obermarchtal\, Mühlweg 1\, Obermarchtal\, Baden-Württemberg\, 89611\, Germany
CATEGORIES:Programm
ATTACH;FMTTYPE=image/jpeg:https://kreuz-obermarchtal.de/wp-content/uploads/2025/02/Kreuz-Obermarchtal-18.jpg
ORGANIZER;CN="Gasthaus Kreuz Obermarchtal":MAILTO:info@kreuz-obermarchtal.de
END:VEVENT
END:VCALENDAR